BEGIN:VCALENDAR
VERSION:2.0
PRODID:-//Dezerland Park - ECPv6.15.20//NONSGML v1.0//EN
CALSCALE:GREGORIAN
METHOD:PUBLISH
X-ORIGINAL-URL:https://dezerlandpark.com
X-WR-CALDESC:Events for Dezerland Park
REFRESH-INTERVAL;VALUE=DURATION:PT1H
X-Robots-Tag:noindex
X-PUBLISHED-TTL:PT1H
BEGIN:VTIMEZONE
TZID:America/New_York
BEGIN:DAYLIGHT
TZOFFSETFROM:-0500
TZOFFSETTO:-0400
TZNAME:EDT
DTSTART:20240310T070000
END:DAYLIGHT
BEGIN:STANDARD
TZOFFSETFROM:-0400
TZOFFSETTO:-0500
TZNAME:EST
DTSTART:20241103T060000
END:STANDARD
BEGIN:DAYLIGHT
TZOFFSETFROM:-0500
TZOFFSETTO:-0400
TZNAME:EDT
DTSTART:20250309T070000
END:DAYLIGHT
BEGIN:STANDARD
TZOFFSETFROM:-0400
TZOFFSETTO:-0500
TZNAME:EST
DTSTART:20251102T060000
END:STANDARD
BEGIN:DAYLIGHT
TZOFFSETFROM:-0500
TZOFFSETTO:-0400
TZNAME:EDT
DTSTART:20260308T070000
END:DAYLIGHT
BEGIN:STANDARD
TZOFFSETFROM:-0400
TZOFFSETTO:-0500
TZNAME:EST
DTSTART:20261101T060000
END:STANDARD
END:VTIMEZONE
BEGIN:VEVENT
DTSTART;TZID=America/New_York:20251107T160000
DTEND;TZID=America/New_York:20251109T190000
DTSTAMP:20260420T173959
CREATED:20251010T014007Z
LAST-MODIFIED:20251020T194100Z
UID:49593-1762531200-1762714800@dezerlandpark.com
SUMMARY:Christmas Wonderland at Dezerland Park
DESCRIPTION:Christmas Wonderland at Dezerland Park!\nStep into a Holiday Adventure for the Whole Family! \nEvent Dates: November 1 – December 24th\nLocation: Dezerland Park – 5250 International Drive Orlando FL 32819 \nHours of Operations:  \n\nFriday: 4pm-9pm\nSaturday: 2pm-9pm\nSunday: 1pm-7pm\n\nBring the family and experience the magic of the season at Dezerland Park’s Christmas Wonderland! Enjoy festive activities including: \n\nMeet and take photos with Santa\nIce skating fun\nBuild-your-own toy experiences with Santa’s elves\nTrain rides through a winter wonderland\nAnd much more!\n\nSpecial Offers: \n\nPresale Discount: Book before November 1st and save 20% OFF!\n\nDon’t miss this chance to make unforgettable holiday memories! Perfect for families\, friends\, and anyone looking to celebrate the season in style. \nTickets: Available now: reserve your spot today!
URL:https://dezerlandpark.com/event/christmas-wonderland-at-dezerland-park-7/
LOCATION:Dezerland Park\, 5250 International Drive\, Orlando\, FL\, 32819\, United States
CATEGORIES:Holiday
ATTACH;FMTTYPE=image/jpeg:https://dezerlandpark.com/wp-content/uploads/2025/10/Christmas-Cover-Image2.jpg
END:VEVENT
BEGIN:VEVENT
DTSTART;TZID=America/New_York:20251108T120000
DTEND;TZID=America/New_York:20251108T180000
DTSTAMP:20260420T173959
CREATED:20250815T153506Z
LAST-MODIFIED:20251003T223829Z
UID:44142-1762603200-1762624800@dezerlandpark.com
SUMMARY:Baby Boomer Expo
DESCRIPTION:¡Llega a Orlando el evento más esperado del año para adultos mayores! \n💚 Senior Expo Baby Boomers \n\n📅 Fecha: Viernes\, 8 de noviembre\n📍 Lugar: Dezerland Park\, Orlando\nHora: 12:00 pm – 6:00 pm\n🎁 ¡Sorteos\, entretenimiento\, salud\, recursos\, regalos y mucho más!\n🎟️Entrada y estacionamiento totalmente GRATIS\n👵🧓 ¡Una experiencia única pensada para ti y tu bienestar\nRegistrate gratis en EREVENTSFL.COM\n\nThe most awaited event of the year for seniors is coming to Orlando! \n💚 Senior Expo Baby Boomers \n\n📅 Date: Friday\, November 8\n📍 Location: Dezerland Park\, Orlando\nTime: 12:00 pm – 6:00 pm\n🎁 Raffles\, entertainment\, health resources\, gifts\, and much more!\n🎟️ Admission and parking are completely FREE\n👵🧓 A unique experience designed for you and your well-being\nRegister for free at EREVENTSFL.COM
URL:https://dezerlandpark.com/event/baby-boomer-expo/
LOCATION:Dezerland Park\, 5250 International Drive\, Orlando\, FL\, 32819\, United States
CATEGORIES:Convention,Public Event
ATTACH;FMTTYPE=image/jpeg:https://dezerlandpark.com/wp-content/uploads/2025/08/BABY-BOOMER.jpg
END:VEVENT
END:VCALENDAR